BEGIN:VCALENDAR
VERSION:2.0
PRODID:-//swoogo.com//NONSGML kigkonsult.se iCalcreator 2.41.90//
CALSCALE:GREGORIAN
UID:33346331-6561-4436-b030-613963363665
BEGIN:VEVENT
UID:03d45fc594d5ffd20eb93b2f24b2eb2239ff8278@swoogo.com
DTSTAMP:20260424T082931Z
DESCRIPTION:HIGHEDWEB 2024 ANNUAL CONFERENCE [https://events.highedweb.org/
 heweb24/3739231?i=GyhwxsGi06j5rSOU9YU-UkabtAkrHexs]\n\nSept. 22-25\, 2024\
 , online and Albuquerque\, New Mexico\n\nExplore the unique digital issues
  facing colleges and universities
DTSTART:20240922T140000Z
DTEND:20240925T223000Z
LAST-MODIFIED:20260424T082931Z
LOCATION:Albuquerque Convention Center\, 401 Second St NW\, Albuquerque\, N
 M 87102\, United States
SEQUENCE:0
STATUS:CONFIRMED
SUMMARY:HighEdWeb 2024 Annual Conference
TRANSP:OPAQUE
X-ALT-DESC;FMTTYPE=text/html:<p><strong><a href='https://events.highedweb.o
 rg/heweb24/3739231?i=GyhwxsGi06j5rSOU9YU-UkabtAkrHexs'>HighEdWeb 2024 Annu
 al Conference</a></strong></p>\n\n<p>Sept. 22-25\, 2024\, online and Albuq
 uerque\, New Mexico</p>\n\n<p>Explore the unique digital issues facing col
 leges and universities</p>
BEGIN:VALARM
UID:65303163-3762-4165-b339-353430366439
ACTION:DISPLAY
DESCRIPTION:HIGHEDWEB 2024 ANNUAL CONFERENCE [https://events.highedweb.org/
 heweb24/3739231?i=GyhwxsGi06j5rSOU9YU-UkabtAkrHexs]\n\nSept. 22-25\, 2024\
 , online and Albuquerque\, New Mexico\n\nExplore the unique digital issues
  facing colleges and universities
TRIGGER:-PT15M
END:VALARM
END:VEVENT
END:VCALENDAR
